BEGIN:VCALENDAR
VERSION:2.0
PRODID:-//Agrupación Motorista Cota Cero - ECPv5.14.0.4//NONSGML v1.0//EN
CALSCALE:GREGORIAN
METHOD:PUBLISH
X-WR-CALNAME:Agrupación Motorista Cota Cero
X-ORIGINAL-URL:https://www.agrupacioncotacero.es
X-WR-CALDESC:Eventos para Agrupación Motorista Cota Cero
BEGIN:VTIMEZONE
TZID:Europe/Paris
BEGIN:DAYLIGHT
TZOFFSETFROM:+0100
TZOFFSETTO:+0200
TZNAME:CEST
DTSTART:20210328T010000
END:DAYLIGHT
BEGIN:STANDARD
TZOFFSETFROM:+0200
TZOFFSETTO:+0100
TZNAME:CET
DTSTART:20211031T010000
END:STANDARD
END:VTIMEZONE
BEGIN:VEVENT
DTSTART;TZID=Europe/Paris:20210508T090000
DTEND;TZID=Europe/Paris:20210508T143000
DTSTAMP:20260420T135057
CREATED:20210427T083825Z
LAST-MODIFIED:20210427T083949Z
UID:15804-1620464400-1620484200@www.agrupacioncotacero.es
SUMMARY:Ruta Técnica - Curvas Rápidas (8 mayo 2021)
DESCRIPTION:El día 8 de mayor de 2021 realizaremos una nueva ruta técnica centrada en la gestión de curvas rápidas. \nEsta actividad está dirigida a socios\, aspirantes y simpatizantes de nuestra Agrupación Motorista. \nPara una mayor información\, puede enviar un correo electrónico a la dirección: info@agrupacioncotacero.es \n 
URL:https://www.agrupacioncotacero.es/evento/ruta-tecnica-curvas-rapidas-8-mayo-2021/
LOCATION:Rotonda Olímpica\, Rotonda Olímpica\, Sevilla\, España
CATEGORIES:Ruta técnica
ATTACH;FMTTYPE=image/png:https://www.agrupacioncotacero.es/wp-content/uploads/2021/04/Captura-de-pantalla-2021-04-27-a-las-10.32.37.png
END:VEVENT
END:VCALENDAR