BEGIN:VCALENDAR
VERSION:2.0
PRODID:-//Agrupación Motorista Cota Cero - ECPv5.14.0.4//NONSGML v1.0//EN
CALSCALE:GREGORIAN
METHOD:PUBLISH
X-WR-CALNAME:Agrupación Motorista Cota Cero
X-ORIGINAL-URL:https://www.agrupacioncotacero.es
X-WR-CALDESC:Eventos para Agrupación Motorista Cota Cero
BEGIN:VTIMEZONE
TZID:Europe/Paris
BEGIN:DAYLIGHT
TZOFFSETFROM:+0100
TZOFFSETTO:+0200
TZNAME:CEST
DTSTART:20200329T010000
END:DAYLIGHT
BEGIN:STANDARD
TZOFFSETFROM:+0200
TZOFFSETTO:+0100
TZNAME:CET
DTSTART:20201025T010000
END:STANDARD
END:VTIMEZONE
BEGIN:VEVENT
DTSTART;TZID=Europe/Paris:20200209T090000
DTEND;TZID=Europe/Paris:20200209T190000
DTSTAMP:20260421T165822
CREATED:20200121T210208Z
LAST-MODIFIED:20200201T181512Z
UID:15233-1581238800-1581274800@www.agrupacioncotacero.es
SUMMARY:Ruta Oficial febrero-2020 (Casares)
DESCRIPTION:La ruta oficial del mes de febrero de 2020\, nos llevará a la población de Casares (Málaga). \nEl lugar de cita será la Gasolinera BP de Montequinto y la hora de cita las 8:30.  \nEl desayuno está previsto realizarlo en la Venta Las Piedras de Montellano. \nA la llegada a Casares y tras aparcar las motos\, realizaremos una visita guiada por la población\, para luego almorzar en el Restaurante El Mirador. \nSi nos deseas acompañar en esta salida\, contacta con nosotros enviándonos un correo electrónico a info@agrupacioncotacero.es y te informaremos del procedimiento de inscripción y de los precios. \n 
URL:https://www.agrupacioncotacero.es/evento/ruta-oficial-febrero-2020-casares/
LOCATION:BP Montequinto\, Carretera Sevilla Utrera s/n\, Dos Hermanas\, Sevilla\, 41089\, España
CATEGORIES:Ruta oficial
ATTACH;FMTTYPE=image/jpeg:https://www.agrupacioncotacero.es/wp-content/uploads/2020/01/casares.jpg
END:VEVENT
END:VCALENDAR