BEGIN:VCALENDAR
VERSION:2.0
PRODID:-//Agrupación Motorista Cota Cero - ECPv5.14.0.4//NONSGML v1.0//EN
CALSCALE:GREGORIAN
METHOD:PUBLISH
X-WR-CALNAME:Agrupación Motorista Cota Cero
X-ORIGINAL-URL:https://www.agrupacioncotacero.es
X-WR-CALDESC:Eventos para Agrupación Motorista Cota Cero
BEGIN:VTIMEZONE
TZID:Europe/Paris
BEGIN:DAYLIGHT
TZOFFSETFROM:+0100
TZOFFSETTO:+0200
TZNAME:CEST
DTSTART:20200329T010000
END:DAYLIGHT
BEGIN:STANDARD
TZOFFSETFROM:+0200
TZOFFSETTO:+0100
TZNAME:CET
DTSTART:20201025T010000
END:STANDARD
END:VTIMEZONE
BEGIN:VEVENT
DTSTART;TZID=Europe/Paris:20200118T090000
DTEND;TZID=Europe/Paris:20200118T190000
DTSTAMP:20260421T185049
CREATED:20200101T164610Z
LAST-MODIFIED:20200114T210403Z
UID:15082-1579338000-1579374000@www.agrupacioncotacero.es
SUMMARY:Ruta Oficial Enero 2020
DESCRIPTION:La ruta oficial del mes de enero de 2020 nos llevará hasta la población gaditana de Sanlúcar de Barrameda\, donde realizaremos una visita a Bodegas Barbadillo\, para posteriormente almorzar en la misma ciudad y regresar a Sevilla en el mismo día. \nEl plan de la ruta es el siguiente: \n09:00 Hora de cita (Café Robao)\n09:30 Salida\n10:15 Desayuno \n10:45 Salida para Sanlúcar\n12:00 Aparcamiento de motos\n12:15 Inicio de la visita a la Bodega Barbadillo\n13:45 Foto Oficial\n14:00 Salida para el Restaurante\n17:00 Salida para Sevilla\n\nEl jueves 16 a las 21:00 cerraremos el plazo de inscripción.\nSi desea más información\, puede enviar un correo electrónico a info@agrupacioncotacero.es
URL:https://www.agrupacioncotacero.es/evento/ruta-oficial-enero-2020/
LOCATION:BP Montequinto\, Carretera Sevilla Utrera s/n\, Dos Hermanas\, Sevilla\, 41089\, España
CATEGORIES:Ruta oficial
ATTACH;FMTTYPE=image/jpeg:https://www.agrupacioncotacero.es/wp-content/uploads/2020/01/sanlucar.jpg
END:VEVENT
END:VCALENDAR