BEGIN:VCALENDAR
VERSION:2.0
PRODID:-//Agrupación Motorista Cota Cero - ECPv5.14.0.4//NONSGML v1.0//EN
CALSCALE:GREGORIAN
METHOD:PUBLISH
X-WR-CALNAME:Agrupación Motorista Cota Cero
X-ORIGINAL-URL:https://www.agrupacioncotacero.es
X-WR-CALDESC:Eventos para Agrupación Motorista Cota Cero
BEGIN:VTIMEZONE
TZID:Europe/Paris
BEGIN:DAYLIGHT
TZOFFSETFROM:+0100
TZOFFSETTO:+0200
TZNAME:CEST
DTSTART:20190331T010000
END:DAYLIGHT
BEGIN:STANDARD
TZOFFSETFROM:+0200
TZOFFSETTO:+0100
TZNAME:CET
DTSTART:20191027T010000
END:STANDARD
END:VTIMEZONE
BEGIN:VEVENT
DTSTART;TZID=Europe/Paris:20191214T090000
DTEND;TZID=Europe/Paris:20191214T143000
DTSTAMP:20260421T202016
CREATED:20190213T194618Z
LAST-MODIFIED:20191209T173713Z
UID:12352-1576314000-1576333800@www.agrupacioncotacero.es
SUMMARY:Ruta Oficial mes de diciembre 2019-Tercer Aniversario
DESCRIPTION:El proximo 14 de diciembre tendremos nuestra última ruta oficial del año 2019 que además coincide con nuestro tercer aniversario. \nAprovechando la cercanía de la Navidad\, nos desplazaremos a la localidad onubense de Higuera de la Sierra para visitar el Museo de su Cabalgata. \nEl punto de encuentro será la Gasolinera Las Cuartillas y la hora de encuentro las 9:00 de la mañana. La saluda está prevista para las 9:15. \nEl desayuno se realizará en Casa Emilio en Arroyo de la Plata. \nA las 11:00 tenemos concertada la visita en el Museo de la Cabalgata de Higuera de la Sierra y a continuación procederemos a realizar una visita a la destilería Martes Santo\, en cuya escalera nos haremos la foto oficial 2019. \nLa vuelta la realizaremos a las 13:00 para estar en Sevilla sobre las 14:00. \nSi estás interesado en asistir y no eres socio de Cota Cero\, envíanos un correo a info@agrupacioncotacero.es y te damos todos los detalles de esta ruta.
URL:https://www.agrupacioncotacero.es/evento/ruta-oficial-mes-de-diciembre-2019-tercer-aniversario/
LOCATION:Por determininar
CATEGORIES:Ruta oficial
ATTACH;FMTTYPE=image/jpeg:https://www.agrupacioncotacero.es/wp-content/uploads/2019/02/IMG_3031.jpg
END:VEVENT
END:VCALENDAR