BEGIN:VCALENDAR
VERSION:2.0
PRODID:-//Agrupación Motorista Cota Cero - ECPv5.14.0.4//NONSGML v1.0//EN
CALSCALE:GREGORIAN
METHOD:PUBLISH
X-WR-CALNAME:Agrupación Motorista Cota Cero
X-ORIGINAL-URL:https://www.agrupacioncotacero.es
X-WR-CALDESC:Eventos para Agrupación Motorista Cota Cero
BEGIN:VTIMEZONE
TZID:Europe/Paris
BEGIN:DAYLIGHT
TZOFFSETFROM:+0100
TZOFFSETTO:+0200
TZNAME:CEST
DTSTART:20190331T010000
END:DAYLIGHT
BEGIN:STANDARD
TZOFFSETFROM:+0200
TZOFFSETTO:+0100
TZNAME:CET
DTSTART:20191027T010000
END:STANDARD
END:VTIMEZONE
BEGIN:VEVENT
DTSTART;TZID=Europe/Paris:20191201T090000
DTEND;TZID=Europe/Paris:20191201T143000
DTSTAMP:20260421T201301
CREATED:20191120T201236Z
LAST-MODIFIED:20191120T201236Z
UID:14905-1575190800-1575210600@www.agrupacioncotacero.es
SUMMARY:Ruta Técnica diciembre 2019
DESCRIPTION:El próximo 1 de diciembre de 2019 tendremos nuestra última ruta técnica del 2019. \nEn dicha ruta técnica trabajaremos sobre la  circulación en grupo e incidiremos en aspectos tales como: distancia de seguridad\, adelantamientos\, averías de una moto\, etc. \nLa ruta discurrirá por diferentes tipos de carretera para cambiar la circulación en zigzag o en línea.
URL:https://www.agrupacioncotacero.es/evento/ruta-tecnica-diciembre-2019/
LOCATION:Gasolinera Las Cuartillas\, N-630\, Valenciana de la Concepción\, Sevilla\, 41907\, España
CATEGORIES:Ruta técnica
ATTACH;FMTTYPE=image/jpeg:https://www.agrupacioncotacero.es/wp-content/uploads/2019/02/Aparcamientos.jpg
END:VEVENT
END:VCALENDAR