BEGIN:VCALENDAR
VERSION:2.0
PRODID:-//Agrupación Motorista Cota Cero - ECPv5.14.0.4//NONSGML v1.0//EN
CALSCALE:GREGORIAN
METHOD:PUBLISH
X-WR-CALNAME:Agrupación Motorista Cota Cero
X-ORIGINAL-URL:https://www.agrupacioncotacero.es
X-WR-CALDESC:Eventos para Agrupación Motorista Cota Cero
BEGIN:VTIMEZONE
TZID:Europe/Paris
BEGIN:DAYLIGHT
TZOFFSETFROM:+0100
TZOFFSETTO:+0200
TZNAME:CEST
DTSTART:20190331T010000
END:DAYLIGHT
BEGIN:STANDARD
TZOFFSETFROM:+0200
TZOFFSETTO:+0100
TZNAME:CET
DTSTART:20191027T010000
END:STANDARD
END:VTIMEZONE
BEGIN:VEVENT
DTSTART;TZID=Europe/Paris:20190515T080000
DTEND;TZID=Europe/Paris:20191130T220000
DTSTAMP:20260422T012732
CREATED:20190501T153646Z
LAST-MODIFIED:20191120T192702Z
UID:13060-1557907200-1575151200@www.agrupacioncotacero.es
SUMMARY:Conocer la provincia de Sevilla - 2019
DESCRIPTION:La provincia de Sevilla dispone de una red de carretas muy atractiva para los amantes de las motos. Podemos encontrar trazados de carreteras amplias y rectas\, así como carreteras de curvas que harán disfrutar a los motoristas más intrépidos. \nTodos los aficionados a las motos\, hemos recorrido y visitado un gran número de poblaciones de la provincia de Sevilla\, pero probablemente nos hayamos dejado atrás algunas poblaciones de alto interés cultural. \nLa actividad que proponemos desde Cota Cero consiste en visitar tantos pueblos de la provincia de Sevilla como sea posible. Por lo tanto se trata de realizar una actividad lúdico-cultural y no competitiva\, que nos permitirá conocer a fondo nuestra provincia. \nPara darle un mayor aliciente a la prueba\, en cada ciudad hay que visitar un determinado monumento o punto de interés que la organización propone. \nPincha en los siguientes enlaces para realizar la inscripción y para conocer todos los detalles de la actividad \nFormulario de inscripción \nDetalle de la actividad
URL:https://www.agrupacioncotacero.es/evento/conocer-la-provincia-de-sevilla-2019/
CATEGORIES:Rider
ATTACH;FMTTYPE=image/png:https://www.agrupacioncotacero.es/wp-content/uploads/2019/04/mapa-municipal-de-sevilla.png
END:VEVENT
BEGIN:VEVENT
DTSTART;TZID=Europe/Paris:20191004T160000
DTEND;TZID=Europe/Paris:20191006T193000
DTSTAMP:20260422T012732
CREATED:20190812T121758Z
LAST-MODIFIED:20190823T173118Z
UID:14525-1570204800-1570390200@www.agrupacioncotacero.es
SUMMARY:Desafío Rider Andalucía 2019
DESCRIPTION:Nuestros amigos de Factory Riders organizan el Desafío Rider Andalucía 2019. Se trata de una prueba de resistencia\, (500 km aproximadamente) donde se recorrerán carreteras de la provincia de Almería y Granada. \nLa prueba dará comienzo el día 5 de octubre y la salida y llegada será el circuito de velocidad de Almería.  \nEl diseño de la ruta la ha realizado nuestro Vocal de Rutas junto con Factory Riders y discurre por carreteras de las provincias de Granada y Almería\, muy atractivas para la conducción en moto. \nLa participación en esta rider tiene un coste de 49€ por piloto y 33€ por acompañante. Se incluye el desayuno y la cena del día 5 de octubre. \nPara acceder a toda la información\, haga click aquí
URL:https://www.agrupacioncotacero.es/evento/desafio-rider-andalucia-2019/
LOCATION:Circuito de velocidad de Almería
CATEGORIES:Ruta oficial,Ruta por invitación
ATTACH;FMTTYPE=image/png:https://www.agrupacioncotacero.es/wp-content/uploads/2019/08/logo-FRA2019.png
END:VEVENT
END:VCALENDAR