BEGIN:VCALENDAR
VERSION:2.0
PRODID:-//Agrupación Motorista Cota Cero - ECPv5.14.0.4//NONSGML v1.0//EN
CALSCALE:GREGORIAN
METHOD:PUBLISH
X-WR-CALNAME:Agrupación Motorista Cota Cero
X-ORIGINAL-URL:https://www.agrupacioncotacero.es
X-WR-CALDESC:Eventos para Agrupación Motorista Cota Cero
BEGIN:VTIMEZONE
TZID:Europe/Paris
BEGIN:DAYLIGHT
TZOFFSETFROM:+0100
TZOFFSETTO:+0200
TZNAME:CEST
DTSTART:20200329T010000
END:DAYLIGHT
BEGIN:STANDARD
TZOFFSETFROM:+0200
TZOFFSETTO:+0100
TZNAME:CET
DTSTART:20201025T010000
END:STANDARD
END:VTIMEZONE
BEGIN:VEVENT
DTSTART;TZID=Europe/Paris:20200223T080000
DTEND;TZID=Europe/Paris:20200223T150000
DTSTAMP:20260421T095633
CREATED:20200121T210802Z
LAST-MODIFIED:20200211T164858Z
UID:15236-1582444800-1582470000@www.agrupacioncotacero.es
SUMMARY:Zurich Maraton Sevilla - 2020
DESCRIPTION:El Instituto Municipal de Deportes del Ayuntamiento de Sevilla organiza\, junto a Motorpress Ibérica S.A.\, el XXXVI Zurich Maratón de Sevilla\, a celebrar el domingo 23 de febrero de 2020\, a las 8:30 horas\, y en el que podrán participar todas las personas mayores de edad que lo deseen sin distinción alguna. \nEl circuito medirá 42.195 metros y estará debidamente homologado. Esta prueba se desarrolla bajo el Reglamento de Carreras en Carretera de la IAAF y de la RFEA\, y está integrado en el calendario de la AIMS. El recorrido estará marcado y señalizado cada kilómetro vertical y horizontalmente. \nNuestro motoristas serán los encargados de llevar a los cámaras de TV que retransmiten en directo esta importante prueba deportiva.
URL:https://www.agrupacioncotacero.es/evento/zurich-maraton-sevilla-2020/
CATEGORIES:Evento deportivo
ATTACH;FMTTYPE=image/png:https://www.agrupacioncotacero.es/wp-content/uploads/2020/01/logol-zmsevilla-2020.png
END:VEVENT
END:VCALENDAR