BEGIN:VCALENDAR
VERSION:2.0
PRODID:-//Agrupación Motorista Cota Cero - ECPv5.14.0.4//NONSGML v1.0//EN
CALSCALE:GREGORIAN
METHOD:PUBLISH
X-WR-CALNAME:Agrupación Motorista Cota Cero
X-ORIGINAL-URL:https://www.agrupacioncotacero.es
X-WR-CALDESC:Eventos para Agrupación Motorista Cota Cero
BEGIN:VTIMEZONE
TZID:Europe/Paris
BEGIN:DAYLIGHT
TZOFFSETFROM:+0100
TZOFFSETTO:+0200
TZNAME:CEST
DTSTART:20190331T010000
END:DAYLIGHT
BEGIN:STANDARD
TZOFFSETFROM:+0200
TZOFFSETTO:+0100
TZNAME:CET
DTSTART:20191027T010000
END:STANDARD
END:VTIMEZONE
BEGIN:VEVENT
DTSTART;TZID=Europe/Paris:20190217T080000
DTEND;TZID=Europe/Paris:20190217T153000
DTSTAMP:20260422T034641
CREATED:20190211T211643Z
LAST-MODIFIED:20190214T132056Z
UID:12066-1550390400-1550417400@www.agrupacioncotacero.es
SUMMARY:Zurich Maraton de Sevilla
DESCRIPTION:La Agrupación Motorista Cota Cero participa en la trigésimo quinta edición del Zurich Maratón de Sevilla que es maratón español con la etiqueta IAAF GOLD LABEL. \nNuestro trabajo de apoyo a la organización\, consistirá en llevar a los cámaras de TV que van a filmar toda la prueba y emitirán en Streaming. Tambien realizaremos labores de comprobación de cobertura de señal en el circuito.
URL:https://www.agrupacioncotacero.es/evento/zurich-maraton-de-sevilla/
CATEGORIES:Evento deportivo
ATTACH;FMTTYPE=image/jpeg:https://www.agrupacioncotacero.es/wp-content/uploads/2019/02/maraton-sevilla.jpg
END:VEVENT
END:VCALENDAR