BEGIN:VCALENDAR
VERSION:2.0
PRODID:-//Agrupación Motorista Cota Cero - ECPv5.14.0.4//NONSGML v1.0//EN
CALSCALE:GREGORIAN
METHOD:PUBLISH
X-WR-CALNAME:Agrupación Motorista Cota Cero
X-ORIGINAL-URL:https://www.agrupacioncotacero.es
X-WR-CALDESC:Eventos para Agrupación Motorista Cota Cero
BEGIN:VTIMEZONE
TZID:Europe/Paris
BEGIN:DAYLIGHT
TZOFFSETFROM:+0100
TZOFFSETTO:+0200
TZNAME:CEST
DTSTART:20200329T010000
END:DAYLIGHT
BEGIN:STANDARD
TZOFFSETFROM:+0200
TZOFFSETTO:+0100
TZNAME:CET
DTSTART:20201025T010000
END:STANDARD
END:VTIMEZONE
BEGIN:VEVENT
DTSTART;TZID=Europe/Paris:20200419T080000
DTEND;TZID=Europe/Paris:20200419T170000
DTSTAMP:20260421T020951
CREATED:20190918T110737Z
LAST-MODIFIED:20200316T172113Z
UID:14622-1587283200-1587315600@www.agrupacioncotacero.es
SUMMARY:VII Half Triatlon de Sevilla
DESCRIPTION:¡¡ APLAZADO !! \nLa Este evento se aplaza para una fecha posterior en el calendario\, dada las las circunstancias excepcionales por el estado de Alarma por el Coronavirus.\n\nLa empresa OF Sport organiza la VII edición del Half Triatlon de Sevilla y como en ediciones anteriores\, va a contar con la Agrupación Motorista Cota Cero para todo lo relativo con la seguridad vial de la prueba.
URL:https://www.agrupacioncotacero.es/evento/vii-half-triatlon-de-sevilla/
CATEGORIES:Evento deportivo
ATTACH;FMTTYPE=image/jpeg:https://www.agrupacioncotacero.es/wp-content/uploads/2019/09/WhatsApp-Image-2019-09-18-at-09.07.54.jpeg
END:VEVENT
END:VCALENDAR