BEGIN:VCALENDAR
VERSION:2.0
PRODID:-//Agrupación Motorista Cota Cero - ECPv5.14.0.4//NONSGML v1.0//EN
CALSCALE:GREGORIAN
METHOD:PUBLISH
X-WR-CALNAME:Agrupación Motorista Cota Cero
X-ORIGINAL-URL:https://www.agrupacioncotacero.es
X-WR-CALDESC:Eventos para Agrupación Motorista Cota Cero
BEGIN:VTIMEZONE
TZID:Europe/Paris
BEGIN:DAYLIGHT
TZOFFSETFROM:+0100
TZOFFSETTO:+0200
TZNAME:CEST
DTSTART:20190331T010000
END:DAYLIGHT
BEGIN:STANDARD
TZOFFSETFROM:+0200
TZOFFSETTO:+0100
TZNAME:CET
DTSTART:20191027T010000
END:STANDARD
END:VTIMEZONE
BEGIN:VEVENT
DTSTART;TZID=Europe/Paris:20190609T080000
DTEND;TZID=Europe/Paris:20190609T143000
DTSTAMP:20260422T001643
CREATED:20190213T180154Z
LAST-MODIFIED:20190605T074105Z
UID:12295-1560067200-1560090600@www.agrupacioncotacero.es
SUMMARY:Reconocimiento Circuito  Grazalema Bike Challenger
DESCRIPTION:Esta ruta Técnica se realiza para hacer el reconocimiento del circuito de la I Grazalema Bike Challenger. \nDurante la ruta\, se explicarán las estrategias a seguir en el cumplimiento de la seguridad vial\, incidiendo en la técnica del Rodillo\, que será la que emplearemos en nuestro cometido como garantes de la seguridad vial. \nEl lugar de cita es la BP de Montequinto y la hora las 8:00 AM
URL:https://www.agrupacioncotacero.es/evento/tercera-ruta-tecnica/
LOCATION:BP Montequinto\, Carretera Sevilla Utrera s/n\, Dos Hermanas\, Sevilla\, 41089\, España
CATEGORIES:Ruta técnica
ATTACH;FMTTYPE=image/jpeg:https://www.agrupacioncotacero.es/wp-content/uploads/2019/02/Aparcamientos.jpg
END:VEVENT
END:VCALENDAR