BEGIN:VCALENDAR
VERSION:2.0
PRODID:-//Agrupación Motorista Cota Cero - ECPv5.14.0.4//NONSGML v1.0//EN
CALSCALE:GREGORIAN
METHOD:PUBLISH
X-WR-CALNAME:Agrupación Motorista Cota Cero
X-ORIGINAL-URL:https://www.agrupacioncotacero.es
X-WR-CALDESC:Eventos para Agrupación Motorista Cota Cero
BEGIN:VTIMEZONE
TZID:Europe/Paris
BEGIN:DAYLIGHT
TZOFFSETFROM:+0100
TZOFFSETTO:+0200
TZNAME:CEST
DTSTART:20190331T010000
END:DAYLIGHT
BEGIN:STANDARD
TZOFFSETFROM:+0200
TZOFFSETTO:+0100
TZNAME:CET
DTSTART:20191027T010000
END:STANDARD
END:VTIMEZONE
BEGIN:VEVENT
DTSTART;TZID=Europe/Paris:20190718T203000
DTEND;TZID=Europe/Paris:20190718T203000
DTSTAMP:20260422T045717
CREATED:20190711T091523Z
LAST-MODIFIED:20190711T204913Z
UID:14011-1563481800-1563481800@www.agrupacioncotacero.es
SUMMARY:Taller BaseCamp de Garmin
DESCRIPTION:Como continuación al plan de formación del software BaseCamp de Garmin\, impartimos este taller práctico donde paso a paso y desde cero\, crearemos una ruta para posteriormente pasarla al navegador de la moto. \nAconsejamos que cada participante traiga su ordenador personal y su navegador de la moto\, debidamente preparado y configurado (cable de conexión incluído) para un mayor aprovechamiento del taller.
URL:https://www.agrupacioncotacero.es/evento/taller-basecamp-de-garmin/
LOCATION:Sede social de Cota Cero\, Calle Trajano\, s/n\, Montequinto\, Sevilla\, 41089\, España
CATEGORIES:Evento Formativo
ATTACH;FMTTYPE=image/jpeg:https://www.agrupacioncotacero.es/wp-content/uploads/2019/07/IMG_2144.jpg
END:VEVENT
END:VCALENDAR