BEGIN:VCALENDAR
VERSION:2.0
PRODID:-//Agrupación Motorista Cota Cero - ECPv5.14.0.4//NONSGML v1.0//EN
CALSCALE:GREGORIAN
METHOD:PUBLISH
X-WR-CALNAME:Agrupación Motorista Cota Cero
X-ORIGINAL-URL:https://www.agrupacioncotacero.es
X-WR-CALDESC:Eventos para Agrupación Motorista Cota Cero
BEGIN:VTIMEZONE
TZID:Europe/Paris
BEGIN:DAYLIGHT
TZOFFSETFROM:+0100
TZOFFSETTO:+0200
TZNAME:CEST
DTSTART:20190331T010000
END:DAYLIGHT
BEGIN:STANDARD
TZOFFSETFROM:+0200
TZOFFSETTO:+0100
TZNAME:CET
DTSTART:20191027T010000
END:STANDARD
END:VTIMEZONE
BEGIN:VEVENT
DTSTART;TZID=Europe/Paris:20190725T203000
DTEND;TZID=Europe/Paris:20190725T220000
DTSTAMP:20260422T045352
CREATED:20190719T202344Z
LAST-MODIFIED:20190719T202417Z
UID:14021-1564086600-1564092000@www.agrupacioncotacero.es
SUMMARY:Segundo taller de BaseCamp
DESCRIPTION:Seguimos con nuestro especial plan de formación del software BaseCamp de Garmin. En el anterior taller práctico  dimos los primeros pasos para crear una ruta. \nEn el segundo taller práctico\, depuraremos la ruta creada y posteriormente  la pasaremos al navegador de la moto. \nAconsejamos que cada participante traiga su ordenador personal y su navegador de la moto\, debidamente preparado y configurado (cable de conexión incluído) para un mayor aprovechamiento del taller.
URL:https://www.agrupacioncotacero.es/evento/segundo-taller-de-basecamp/
LOCATION:Sede social de Cota Cero\, Calle Trajano\, s/n\, Montequinto\, Sevilla\, 41089\, España
ATTACH;FMTTYPE=image/jpeg:https://www.agrupacioncotacero.es/wp-content/uploads/2019/07/taller-basecamp.jpeg
END:VEVENT
END:VCALENDAR