BEGIN:VCALENDAR
VERSION:2.0
PRODID:-//Agrupación Motorista Cota Cero - ECPv5.14.0.4//NONSGML v1.0//EN
CALSCALE:GREGORIAN
METHOD:PUBLISH
X-WR-CALNAME:Agrupación Motorista Cota Cero
X-ORIGINAL-URL:https://www.agrupacioncotacero.es
X-WR-CALDESC:Eventos para Agrupación Motorista Cota Cero
BEGIN:VTIMEZONE
TZID:Europe/Paris
BEGIN:DAYLIGHT
TZOFFSETFROM:+0100
TZOFFSETTO:+0200
TZNAME:CEST
DTSTART:20200329T010000
END:DAYLIGHT
BEGIN:STANDARD
TZOFFSETFROM:+0200
TZOFFSETTO:+0100
TZNAME:CET
DTSTART:20201025T010000
END:STANDARD
END:VTIMEZONE
BEGIN:VEVENT
DTSTART;TZID=Europe/Paris:20200308T090000
DTEND;TZID=Europe/Paris:20200308T150000
DTSTAMP:20260421T075524
CREATED:20200121T211009Z
LAST-MODIFIED:20200121T211127Z
UID:15240-1583658000-1583679600@www.agrupacioncotacero.es
SUMMARY:Ruta Técnica (Marzo 2020)
DESCRIPTION:La ruta técnica de marzo lo emplearemos para practicar la circulación en grupo.
URL:https://www.agrupacioncotacero.es/evento/ruta-tecnica-marzo-2020/
CATEGORIES:Ruta técnica
ATTACH;FMTTYPE=image/jpeg:https://www.agrupacioncotacero.es/wp-content/uploads/2019/05/PHOTO-2019-05-01-10-07-57.jpg
END:VEVENT
END:VCALENDAR