BEGIN:VCALENDAR
VERSION:2.0
PRODID:-//Agrupación Motorista Cota Cero - ECPv5.14.0.4//NONSGML v1.0//EN
CALSCALE:GREGORIAN
METHOD:PUBLISH
X-WR-CALNAME:Agrupación Motorista Cota Cero
X-ORIGINAL-URL:https://www.agrupacioncotacero.es
X-WR-CALDESC:Eventos para Agrupación Motorista Cota Cero
BEGIN:VTIMEZONE
TZID:Europe/Paris
BEGIN:DAYLIGHT
TZOFFSETFROM:+0100
TZOFFSETTO:+0200
TZNAME:CEST
DTSTART:20190331T010000
END:DAYLIGHT
BEGIN:STANDARD
TZOFFSETFROM:+0200
TZOFFSETTO:+0100
TZNAME:CET
DTSTART:20191027T010000
END:STANDARD
END:VTIMEZONE
BEGIN:VEVENT
DTSTART;TZID=Europe/Paris:20190228T090000
DTEND;TZID=Europe/Paris:20190303T190000
DTSTAMP:20260422T020125
CREATED:20190211T205843Z
LAST-MODIFIED:20190214T131744Z
UID:12060-1551344400-1551639600@www.agrupacioncotacero.es
SUMMARY:Ruta Oficial Puente de Andalucía
DESCRIPTION:La segunda Ruta Oficial de la Agrupación Motorista Cota Cero\, discurrirá por la provincia de Málaga durante los días 28 de febrero al 3 de marzo. \nRecorreremos las bonitas carreteras de la Sierra de la Nieves\, Montes de Málaga y Serranía de Ronda.\nNi que decir tiene que disfrutaremos de la excelente gastronomía de la zona. \nEl alojamiento lo tenemos previsto realizar en la Residencia Militar Castañón de Mena.
URL:https://www.agrupacioncotacero.es/evento/ruta-oficial-puente-de-andalucia/
LOCATION:BP Montequinto\, Carretera Sevilla Utrera s/n\, Dos Hermanas\, Sevilla\, 41089\, España
CATEGORIES:Ruta oficial
ATTACH;FMTTYPE=image/jpeg:https://www.agrupacioncotacero.es/wp-content/uploads/2019/02/malaga.jpg
END:VEVENT
END:VCALENDAR