BEGIN:VCALENDAR
VERSION:2.0
PRODID:-//Agrupación Motorista Cota Cero - ECPv5.14.0.4//NONSGML v1.0//EN
CALSCALE:GREGORIAN
METHOD:PUBLISH
X-WR-CALNAME:Agrupación Motorista Cota Cero
X-ORIGINAL-URL:https://www.agrupacioncotacero.es
X-WR-CALDESC:Eventos para Agrupación Motorista Cota Cero
BEGIN:VTIMEZONE
TZID:Europe/Paris
BEGIN:DAYLIGHT
TZOFFSETFROM:+0100
TZOFFSETTO:+0200
TZNAME:CEST
DTSTART:20190331T010000
END:DAYLIGHT
BEGIN:STANDARD
TZOFFSETFROM:+0200
TZOFFSETTO:+0100
TZNAME:CET
DTSTART:20191027T010000
END:STANDARD
END:VTIMEZONE
BEGIN:VEVENT
DTSTART;TZID=Europe/Paris:20191031T160000
DTEND;TZID=Europe/Paris:20191102T190000
DTSTAMP:20260421T221611
CREATED:20190213T194316Z
LAST-MODIFIED:20190908T180426Z
UID:12349-1572537600-1572721200@www.agrupacioncotacero.es
SUMMARY:Ruta Oficial Noviembre-Castañón de Mena
DESCRIPTION:IV Reunión Motero-Cultural Castañón de Mena 2019\nDesde el 31 de octubre al 3 de noviembre de 2019 \n31 oct 2019 \n\nCena/vino de bienvenida\nPhoto-call y exposición de las rutas\nPresentación de patrocinadores\n\n1 nov 2019 \n\nRuta Motera\nVisita Cultural\nComida en restaurante típico\nCena libre\n\n2 nov 2019 \n\nRuta Motera\nVisita cultural\nComida en restaurante típico\nCena de despedida y sorteo de regalos\n\n3 nov 2019 \n\nVisita cultural museos de Málaga (Opcional)\nDespedida\n\nDebido a que el cupo de motos este año es menor que en años anteriores\, la fecha tope para realizar nuestra inscripción es el  12 de septiembre de 2019.
URL:https://www.agrupacioncotacero.es/evento/ruta-oficial-noviembre-castanon-de-mena/
LOCATION:BP Montequinto\, Carretera Sevilla Utrera s/n\, Dos Hermanas\, Sevilla\, 41089\, España
CATEGORIES:Ruta oficial
ATTACH;FMTTYPE=image/jpeg:https://www.agrupacioncotacero.es/wp-content/uploads/2019/02/logo.jpg
END:VEVENT
END:VCALENDAR