BEGIN:VCALENDAR
VERSION:2.0
PRODID:-//Agrupación Motorista Cota Cero - ECPv5.14.0.4//NONSGML v1.0//EN
CALSCALE:GREGORIAN
METHOD:PUBLISH
X-WR-CALNAME:Agrupación Motorista Cota Cero
X-ORIGINAL-URL:https://www.agrupacioncotacero.es
X-WR-CALDESC:Eventos para Agrupación Motorista Cota Cero
BEGIN:VTIMEZONE
TZID:Europe/Paris
BEGIN:DAYLIGHT
TZOFFSETFROM:+0100
TZOFFSETTO:+0200
TZNAME:CEST
DTSTART:20200329T010000
END:DAYLIGHT
BEGIN:STANDARD
TZOFFSETFROM:+0200
TZOFFSETTO:+0100
TZNAME:CET
DTSTART:20201025T010000
END:STANDARD
END:VTIMEZONE
BEGIN:VEVENT
DTSTART;TZID=Europe/Paris:20200329T083000
DTEND;TZID=Europe/Paris:20200329T203000
DTSTAMP:20260421T040017
CREATED:20200308T205909Z
LAST-MODIFIED:20200313T151547Z
UID:15491-1585470600-1585513800@www.agrupacioncotacero.es
SUMMARY:Ruta Oficial Marzo 2020
DESCRIPTION:¡¡ ANULADA !!\nLa ruta oficial del mes de marzo de 2020 queda anulada. Una vez superada la situación de excepción motivado por el Coronavirus\, se comunicará la nueva fecha .\n\nSe trata de una ruta con marcado carácter cultural ya que la principal actividad que realizaremos al llegar a Vejer será acompañar al grupo cultural Marimantas en una visita cantada/guiada por los lugares pintorescos de la localidad. \nMarimantas Vejer es una empresa que realiza espectáculos por las calles de Vejer contando y cantando leyendas. Se descubre su historia de una forma diversa. \nIntervienen Cobijadas y trovadores. \n \nLa ruta comienza en plaza de España y finaliza en Mesón de animas. \nSe visita patios y en sus calles antiguas hacemos paradas para contar su historia. \nDuración 1:30′ aproximadamente. \nUna vez finalizada la visita al la ciudad\, almorzaremos en el restaurante El Refrectorio\, ubicado en el Hotel Convento San Francisco. \nEs recomendable llevar algún calzado cómodo para hacer la visita por Vejer. También sería recomendable dejar espacio en las maletas de la moto para dejar chaqueta y cascos y no tener que cargar con ellos en la visita.
URL:https://www.agrupacioncotacero.es/evento/ruta-oficial-marzo-2020/
CATEGORIES:Ruta oficial
ATTACH;FMTTYPE=image/jpeg:https://www.agrupacioncotacero.es/wp-content/uploads/2020/03/marimantas-2.jpg
END:VEVENT
END:VCALENDAR