BEGIN:VCALENDAR
VERSION:2.0
PRODID:-//Agrupación Motorista Cota Cero - ECPv5.14.0.4//NONSGML v1.0//EN
CALSCALE:GREGORIAN
METHOD:PUBLISH
X-WR-CALNAME:Agrupación Motorista Cota Cero
X-ORIGINAL-URL:https://www.agrupacioncotacero.es
X-WR-CALDESC:Eventos para Agrupación Motorista Cota Cero
BEGIN:VTIMEZONE
TZID:Europe/Paris
BEGIN:DAYLIGHT
TZOFFSETFROM:+0100
TZOFFSETTO:+0200
TZNAME:CEST
DTSTART:20210328T010000
END:DAYLIGHT
BEGIN:STANDARD
TZOFFSETFROM:+0200
TZOFFSETTO:+0100
TZNAME:CET
DTSTART:20211031T010000
END:STANDARD
END:VTIMEZONE
BEGIN:VEVENT
DTSTART;TZID=Europe/Paris:20211009T090000
DTEND;TZID=Europe/Paris:20211009T190000
DTSTAMP:20260419T162555
CREATED:20210603T104741Z
LAST-MODIFIED:20210603T104741Z
UID:15991-1633770000-1633806000@www.agrupacioncotacero.es
SUMMARY:Ruta Oficial a Chipiona - Octubre 2021
DESCRIPTION:La Ruta Oficial del mes de octubre de 2021 será a la población gaditana de Chipiona. Realizaremos una visita cultural (por determinar) y almorzaremos en un restaurante de esta bonita población.
URL:https://www.agrupacioncotacero.es/evento/ruta-oficial-a-chipiona-octubre-2021/
LOCATION:BP Montequinto\, Carretera Sevilla Utrera s/n\, Dos Hermanas\, Sevilla\, 41089\, España
CATEGORIES:Ruta oficial
ATTACH;FMTTYPE=image/jpeg:https://www.agrupacioncotacero.es/wp-content/uploads/2021/05/Faro_Chipiona_España_2015-12-08_DD_16-18_HDR.jpeg
END:VEVENT
END:VCALENDAR