BEGIN:VCALENDAR
VERSION:2.0
PRODID:-//Agrupación Motorista Cota Cero - ECPv5.14.0.4//NONSGML v1.0//EN
CALSCALE:GREGORIAN
METHOD:PUBLISH
X-WR-CALNAME:Agrupación Motorista Cota Cero
X-ORIGINAL-URL:https://www.agrupacioncotacero.es
X-WR-CALDESC:Eventos para Agrupación Motorista Cota Cero
BEGIN:VTIMEZONE
TZID:Europe/Paris
BEGIN:DAYLIGHT
TZOFFSETFROM:+0100
TZOFFSETTO:+0200
TZNAME:CEST
DTSTART:20190331T010000
END:DAYLIGHT
BEGIN:STANDARD
TZOFFSETFROM:+0200
TZOFFSETTO:+0100
TZNAME:CET
DTSTART:20191027T010000
END:STANDARD
END:VTIMEZONE
BEGIN:VEVENT
DTSTART;TZID=Europe/Paris:20190629T204500
DTEND;TZID=Europe/Paris:20190629T233000
DTSTAMP:20260422T035117
CREATED:20190605T080440Z
LAST-MODIFIED:20190630T102810Z
UID:13803-1561841100-1561851000@www.agrupacioncotacero.es
SUMMARY:Ruta Nocturna Junio 2019
DESCRIPTION:Formulario de inscripción \nDocumento oficial de la ruta \n  \n  \n  \nDescripción de la Ruta\nCon el incremento de las temperaturas\, la modalidad de Ruta Nocturna es una magnífica opción para circular en moto. \nPara esta primera ruta nocturna de año 2019\, hemos elegido un recorrido relativamente corto\, que discurrirá por el Aljarafe.  \nLa cena está prevista realizarla en La Sacristía en Almensilla. \n  \n \nHorario previsto \n20:45       Punto de encuentro en Rotonda Olímpica (Puente Alamillo) \n21:00       Salida de la ruta \n22:00       Llegada a Almensilla\, aparcamiento de motos y entrada a Bodega La Sacristía \n00:00       Regreso para Sevilla \nMenú \nPara compartir (4 personas) \n\nRegañá de paletilla y chacinas ibéricas\nLingotes de berenjenas con miel y mermelada de higos\nPescaito frito\n\nPlato principal (A elegir uno) \n\nSolomillo al wisky\nTournedó con salsa árabe\nPechuga de pollo a la brasa\nSuprema de merluza\n\nPostre y café \nTinto de la casa\, mosto y cerveza. Manzanilla de Sanlúcar \nPrecio por comensal: 23€ \nEnlaces de interés: \nFormulario de Inscripción:  \nhttps://forms.gle/U1uCHGcZTLG5gQRD6 \nRuta a seguir:                          \nhttps://goo.gl/maps/64vD9cBy98mc91cm8 \nPunto de encuentro:              \nhttps://goo.gl/maps/oCjFhLHtL6R8qQKK6 \nBodega La Sacristía:              \nhttps://goo.gl/maps/qtYegyGEipxk5ffu5 \nDocumento oficial de la ruta: \n190629 – Almensilla \n 
URL:https://www.agrupacioncotacero.es/evento/ruta-nocturna-junio-2019/
LOCATION:Rotonda Olímpica\, Rotonda Olímpica\, Sevilla\, España
CATEGORIES:Ruta nocturna
ATTACH;FMTTYPE=image/png:https://www.agrupacioncotacero.es/wp-content/uploads/2019/02/Captura-de-pantalla-2019-06-05-a-las-10.00.51.png
END:VEVENT
END:VCALENDAR