BEGIN:VCALENDAR
VERSION:2.0
PRODID:-//Agrupación Motorista Cota Cero - ECPv5.14.0.4//NONSGML v1.0//EN
CALSCALE:GREGORIAN
METHOD:PUBLISH
X-WR-CALNAME:Agrupación Motorista Cota Cero
X-ORIGINAL-URL:https://www.agrupacioncotacero.es
X-WR-CALDESC:Eventos para Agrupación Motorista Cota Cero
BEGIN:VTIMEZONE
TZID:Europe/Paris
BEGIN:DAYLIGHT
TZOFFSETFROM:+0100
TZOFFSETTO:+0200
TZNAME:CEST
DTSTART:20210328T010000
END:DAYLIGHT
BEGIN:STANDARD
TZOFFSETFROM:+0200
TZOFFSETTO:+0100
TZNAME:CET
DTSTART:20211031T010000
END:STANDARD
END:VTIMEZONE
BEGIN:VEVENT
DTSTART;TZID=Europe/Paris:20210821T200000
DTEND;TZID=Europe/Paris:20210821T233000
DTSTAMP:20260420T020651
CREATED:20210603T103239Z
LAST-MODIFIED:20210815T071955Z
UID:15986-1629576000-1629588600@www.agrupacioncotacero.es
SUMMARY:Ruta Nocturna a La Carlota
DESCRIPTION:Los meses de verano cambiamos nuestras rutas oficiales por Rutas Nocturnas\, para mitigar en la medida de lo posible las altas temperaturas. \nLa Ruta Nocturna del mes de agosto de 2021 la realizaremos a la población de La Carlota  y cenaremos en el Restaurante Carmen. \nEl plan de ruta es el siguiente: \n19:45   Punto de encuentro en Rotonda Olímpica (Puente Alamillo) \n20:00   Salida de la ruta. La ida la haremos por la A-431 \n21:00   Encuentro en Palma del Río con los compañeros de Córdoba \n21:30   Llegada a La Carlota \n00:30   Regreso para Sevilla por la autovía A-4 \nSi no perteneces a nuestra agrupación y deseas más información sobre esta u otra actividad\, envía un correo a info@agrupacioncotacero.es \n 
URL:https://www.agrupacioncotacero.es/evento/ruta-nocturna-a-la-carlota/
LOCATION:Rotonda Olímpica\, Rotonda Olímpica\, Sevilla\, España
CATEGORIES:Ruta nocturna
ATTACH;FMTTYPE=image/jpeg:https://www.agrupacioncotacero.es/wp-content/uploads/2021/06/la-carlota.jpeg
END:VEVENT
END:VCALENDAR