BEGIN:VCALENDAR
VERSION:2.0
PRODID:-//Agrupación Motorista Cota Cero - ECPv5.14.0.4//NONSGML v1.0//EN
CALSCALE:GREGORIAN
METHOD:PUBLISH
X-WR-CALNAME:Agrupación Motorista Cota Cero
X-ORIGINAL-URL:https://www.agrupacioncotacero.es
X-WR-CALDESC:Eventos para Agrupación Motorista Cota Cero
BEGIN:VTIMEZONE
TZID:Europe/Paris
BEGIN:DAYLIGHT
TZOFFSETFROM:+0100
TZOFFSETTO:+0200
TZNAME:CEST
DTSTART:20210328T010000
END:DAYLIGHT
BEGIN:STANDARD
TZOFFSETFROM:+0200
TZOFFSETTO:+0100
TZNAME:CET
DTSTART:20211031T010000
END:STANDARD
END:VTIMEZONE
BEGIN:VEVENT
DTSTART;TZID=Europe/Paris:20210619T203000
DTEND;TZID=Europe/Paris:20210619T233000
DTSTAMP:20260420T055347
CREATED:20210603T101349Z
LAST-MODIFIED:20210609T115639Z
UID:15980-1624134600-1624145400@www.agrupacioncotacero.es
SUMMARY:Ruta Nocturna a Carmona
DESCRIPTION:Con el incremento de las temperaturas\, la modalidad de Ruta Nocturna es una magnífica opción para circular en moto. \nPara esta primera ruta nocturna del año 2021 hemos elegido la población sevillana de Carmona\, donde cenaremos. Previamente a la cena haremos una pequeña ruta hasta Lora del Río donde nos encontraremos con nuestros compañeros de Córdoba. El punto de encuentro en Lora será la Gasolinera Repsol. \nLa cena la tenemos concertada en el Restaurante Lolita Fusión. \n  \n 
URL:https://www.agrupacioncotacero.es/evento/ruta-nocturna-a-carmona/
LOCATION:Rotonda Olímpica\, Rotonda Olímpica\, Sevilla\, España
CATEGORIES:Ruta nocturna
ATTACH;FMTTYPE=image/png:https://www.agrupacioncotacero.es/wp-content/uploads/2021/06/cartel-para-FB.png
END:VEVENT
END:VCALENDAR