BEGIN:VCALENDAR
VERSION:2.0
PRODID:-//Agrupación Motorista Cota Cero - ECPv5.14.0.4//NONSGML v1.0//EN
CALSCALE:GREGORIAN
METHOD:PUBLISH
X-WR-CALNAME:Agrupación Motorista Cota Cero
X-ORIGINAL-URL:https://www.agrupacioncotacero.es
X-WR-CALDESC:Eventos para Agrupación Motorista Cota Cero
BEGIN:VTIMEZONE
TZID:Europe/Paris
BEGIN:DAYLIGHT
TZOFFSETFROM:+0100
TZOFFSETTO:+0200
TZNAME:CEST
DTSTART:20210328T010000
END:DAYLIGHT
BEGIN:STANDARD
TZOFFSETFROM:+0200
TZOFFSETTO:+0100
TZNAME:CET
DTSTART:20211031T010000
END:STANDARD
END:VTIMEZONE
BEGIN:VEVENT
DTSTART;TZID=Europe/Paris:20210515T083000
DTEND;TZID=Europe/Paris:20210515T143000
DTSTAMP:20260420T132248
CREATED:20210506T120640Z
LAST-MODIFIED:20210506T122226Z
UID:15863-1621067400-1621089000@www.agrupacioncotacero.es
SUMMARY:Ruta - Encuentro participantes desafio Sevilla perimetral 2021
DESCRIPTION:En la prueba del Desafío Sevilla Perimetral han participado un gran número de motos. Como quiera que los distintos participantes han realizado el desafío en distintos momentos\, hemos pensado que sería una buena idea hacer una encuentro con los participantes y hacer una breve ruta y así conocernos. \nEn dicha ruta respetaremos escrupulosamente  las medidas sanitarias preventivas establecidas por las autoridades sanitarias. \nLa ruta discurrirá por algunas poblaciones de la Sierra Norte de Sevilla y nos llevará la mañana del sábado 15 de mayo de 2021. \nEn el siguiente enlace puedes realizar tu inscripción. \nhttps://forms.gle/KHFH7U87vA76YFGC7 \nNos vemos el dia 15.
URL:https://www.agrupacioncotacero.es/evento/ruta-encuentro-participantes-desafio-sevilla-perimetral-2021/
LOCATION:Rotonda Olímpica\, Rotonda Olímpica\, Sevilla\, España
CATEGORIES:Ruta Puntual
ATTACH;FMTTYPE=image/png:https://www.agrupacioncotacero.es/wp-content/uploads/2021/05/collage-desafio-Sevilla.png
END:VEVENT
END:VCALENDAR