BEGIN:VCALENDAR
VERSION:2.0
PRODID:-//Agrupación Motorista Cota Cero - ECPv5.14.0.4//NONSGML v1.0//EN
CALSCALE:GREGORIAN
METHOD:PUBLISH
X-WR-CALNAME:Agrupación Motorista Cota Cero
X-ORIGINAL-URL:https://www.agrupacioncotacero.es
X-WR-CALDESC:Eventos para Agrupación Motorista Cota Cero
BEGIN:VTIMEZONE
TZID:Europe/Paris
BEGIN:DAYLIGHT
TZOFFSETFROM:+0100
TZOFFSETTO:+0200
TZNAME:CEST
DTSTART:20200329T010000
END:DAYLIGHT
BEGIN:STANDARD
TZOFFSETFROM:+0200
TZOFFSETTO:+0100
TZNAME:CET
DTSTART:20201025T010000
END:STANDARD
END:VTIMEZONE
BEGIN:VEVENT
DTSTART;TZID=Europe/Paris:20201219T083000
DTEND;TZID=Europe/Paris:20201219T143000
DTSTAMP:20260420T170943
CREATED:20200705T181803Z
LAST-MODIFIED:20200705T181803Z
UID:15664-1608366600-1608388200@www.agrupacioncotacero.es
SUMMARY:Ruta Cuarto Aniversario
DESCRIPTION:La ruta oficial del mes de diciembre de 2020 coincide con nuestro cuarto aniversario. Será una ruta solo de mañana ya que ese mismo día tendremos nuestra cena de navidad. \nEl lugar a visitar y la actividad a realizar no está aún cerrado pero todo apunta a que será el museo de belenes de Mollina.
URL:https://www.agrupacioncotacero.es/evento/ruta-cuarto-aniversario/
LOCATION:BP Montequinto\, Carretera Sevilla Utrera s/n\, Dos Hermanas\, Sevilla\, 41089\, España
CATEGORIES:Ruta oficial
ATTACH;FMTTYPE=image/jpeg:https://www.agrupacioncotacero.es/wp-content/uploads/2020/07/images-1.jpeg
END:VEVENT
END:VCALENDAR