BEGIN:VCALENDAR
VERSION:2.0
PRODID:-//Agrupación Motorista Cota Cero - ECPv5.14.0.4//NONSGML v1.0//EN
CALSCALE:GREGORIAN
METHOD:PUBLISH
X-WR-CALNAME:Agrupación Motorista Cota Cero
X-ORIGINAL-URL:https://www.agrupacioncotacero.es
X-WR-CALDESC:Eventos para Agrupación Motorista Cota Cero
BEGIN:VTIMEZONE
TZID:Europe/Paris
BEGIN:DAYLIGHT
TZOFFSETFROM:+0100
TZOFFSETTO:+0200
TZNAME:CEST
DTSTART:20200329T010000
END:DAYLIGHT
BEGIN:STANDARD
TZOFFSETFROM:+0200
TZOFFSETTO:+0100
TZNAME:CET
DTSTART:20201025T010000
END:STANDARD
END:VTIMEZONE
BEGIN:VEVENT
DTSTART;TZID=Europe/Paris:20200112T090000
DTEND;TZID=Europe/Paris:20200112T143000
DTSTAMP:20260421T170350
CREATED:20200101T163542Z
LAST-MODIFIED:20200101T170626Z
UID:15079-1578819600-1578839400@www.agrupacioncotacero.es
SUMMARY:Primera Ruta Tecnica 2020
DESCRIPTION:La primera Ruta Técnica del año 2020 tendrá como finalidad realizar prácticas sobre el trazado de curvas. \nPara ello rodaremos por diversos tipos de carretera. Realizaremos varios tipos de circulación en grupo cambiando de la circulación en zigzag a la circulación de a uno\, e ir consolidando la gestión de la técnica de  contramanillar. \nEn breve colocaremos el detalle de esta ruta.
URL:https://www.agrupacioncotacero.es/evento/primera-ruta-tecnica-2020/
LOCATION:Gasolinera Las Cuartillas\, N-630\, Valenciana de la Concepción\, Sevilla\, 41907\, España
CATEGORIES:Ruta técnica
ATTACH;FMTTYPE=image/png:https://www.agrupacioncotacero.es/wp-content/uploads/2020/01/Captura-de-pantalla-2018-07-28-a-las-19.51.44.png
END:VEVENT
END:VCALENDAR