BEGIN:VCALENDAR
VERSION:2.0
PRODID:-//Agrupación Motorista Cota Cero - ECPv5.14.0.4//NONSGML v1.0//EN
CALSCALE:GREGORIAN
METHOD:PUBLISH
X-WR-CALNAME:Agrupación Motorista Cota Cero
X-ORIGINAL-URL:https://www.agrupacioncotacero.es
X-WR-CALDESC:Eventos para Agrupación Motorista Cota Cero
BEGIN:VTIMEZONE
TZID:Europe/Paris
BEGIN:DAYLIGHT
TZOFFSETFROM:+0100
TZOFFSETTO:+0200
TZNAME:CEST
DTSTART:20190331T010000
END:DAYLIGHT
BEGIN:STANDARD
TZOFFSETFROM:+0200
TZOFFSETTO:+0100
TZNAME:CET
DTSTART:20191027T010000
END:STANDARD
END:VTIMEZONE
BEGIN:VEVENT
DTSTART;TZID=Europe/Paris:20190623T083000
DTEND;TZID=Europe/Paris:20190623T190000
DTSTAMP:20260422T035437
CREATED:20190213T192545Z
LAST-MODIFIED:20190518T175057Z
UID:12334-1561278600-1561316400@www.agrupacioncotacero.es
SUMMARY:O' Fabuloso Sport. Grazalema Bike Challenge
DESCRIPTION:Grazalema Bike Challenge es una prueba ciclista ciclodeportiva organizada por OF Sport que tendrá lugar el 23 de junio de 2019. \n \nLa prueba tendrá salida y meta en la localidad de Grazalema\, haciendo un recorrido de 94km atravesando los términos del Parque Natural Sierra de Grazalema por las carreteras de la provincia de Cádiz: Grazalema\, El Gastor\, Zahara de la Sierra\, Villaluenga del Rosario\, Benaocaz\, Ubrique y El Bosque.Está abierta a todo ciclista de 18 años en adelante. \nMas información en este enlace
URL:https://www.agrupacioncotacero.es/evento/o-fabuloso-sport-prueba-ciclista-grazalema-challenger/
LOCATION:Por determininar
CATEGORIES:Evento deportivo
ATTACH;FMTTYPE=image/png:https://www.agrupacioncotacero.es/wp-content/uploads/2019/02/Captura-de-pantalla-2019-05-18-a-las-10.04.33.png
END:VEVENT
END:VCALENDAR