BEGIN:VCALENDAR
VERSION:2.0
PRODID:-//Agrupación Motorista Cota Cero - ECPv5.14.0.4//NONSGML v1.0//EN
CALSCALE:GREGORIAN
METHOD:PUBLISH
X-WR-CALNAME:Agrupación Motorista Cota Cero
X-ORIGINAL-URL:https://www.agrupacioncotacero.es
X-WR-CALDESC:Eventos para Agrupación Motorista Cota Cero
BEGIN:VTIMEZONE
TZID:Europe/Paris
BEGIN:DAYLIGHT
TZOFFSETFROM:+0100
TZOFFSETTO:+0200
TZNAME:CEST
DTSTART:20190331T010000
END:DAYLIGHT
BEGIN:STANDARD
TZOFFSETFROM:+0200
TZOFFSETTO:+0100
TZNAME:CET
DTSTART:20191027T010000
END:STANDARD
END:VTIMEZONE
BEGIN:VEVENT
DTSTART;TZID=Europe/Paris:20190406T130000
DTEND;TZID=Europe/Paris:20190406T190000
DTSTAMP:20260422T001254
CREATED:20190213T183218Z
LAST-MODIFIED:20190220T182655Z
UID:12315-1554555600-1554577200@www.agrupacioncotacero.es
SUMMARY:O Fabuloso Sport - Half Triatlón de Sevilla
DESCRIPTION:Vive el VI Nutrisport Half Triatlón de Sevilla \n\n\nEl VI Nutrisport Half Triatlón de Sevilla vuelve de nuevo para situarse en el panorama nacional de la media distancia el próximo 6 de abril de 2019. \nCota Cero participa con diversas funciones apoyando a la organización. \nPara más información ha click en este enlace.
URL:https://www.agrupacioncotacero.es/evento/o-fabuloso-sport-half-maraton-de-sevilla/
CATEGORIES:Evento deportivo
ATTACH;FMTTYPE=image/jpeg:https://www.agrupacioncotacero.es/wp-content/uploads/2019/02/CARTEL_HALF_19_05_ok_copa_ESP_WEB.jpg
END:VEVENT
END:VCALENDAR