BEGIN:VCALENDAR
VERSION:2.0
PRODID:-//Agrupación Motorista Cota Cero - ECPv5.14.0.4//NONSGML v1.0//EN
CALSCALE:GREGORIAN
METHOD:PUBLISH
X-WR-CALNAME:Agrupación Motorista Cota Cero
X-ORIGINAL-URL:https://www.agrupacioncotacero.es
X-WR-CALDESC:Eventos para Agrupación Motorista Cota Cero
BEGIN:VTIMEZONE
TZID:Europe/Paris
BEGIN:DAYLIGHT
TZOFFSETFROM:+0100
TZOFFSETTO:+0200
TZNAME:CEST
DTSTART:20190331T010000
END:DAYLIGHT
BEGIN:STANDARD
TZOFFSETFROM:+0200
TZOFFSETTO:+0100
TZNAME:CET
DTSTART:20191027T010000
END:STANDARD
END:VTIMEZONE
BEGIN:VEVENT
DTSTART;TZID=Europe/Paris:20190915T070000
DTEND;TZID=Europe/Paris:20190915T210000
DTSTAMP:20260422T031639
CREATED:20190829T175205Z
LAST-MODIFIED:20190831T101929Z
UID:14562-1568530800-1568581200@www.agrupacioncotacero.es
SUMMARY:Marcha Motera Cuartel de la Legión
DESCRIPTION:Un año más nuestros amigos del Cuartel de la Legión de Montejaque nos invitan a participar en su marcha motera de 2019.  \nEsta marcha tendrá lugar el domingo 15 de septiembre de 2019 y discurrirá por las bonitas carreteras de los Pueblos Blancos de la provincia de Cádiz.  \nEl grupo de participantes de Cota Cero saldrá desde la BP de Montequinto. \nEl plan de horas y actividades es el siguiente: \n\n07:00 Cita en la gasolinera BP de Montequinto (Café Robao)\n07:30 Salida para Montejaque\n09:00 Llegada al Cuartel de la Legión\n09:45 Desayuno  (2€)\n10:30 Salida para la ruta\n14:30 Llegada al cuartel y almuerzo (5€)\n17:30 Salida para Sevilla\n\nLos socios de la Agrupación Motorista Cota Cero pueden realizar la inscripción a través del grupo oficial de Whatsapp. Los Aspirantes a socios y amigos que deseen acompañarnos\, pueden inscribirse contactando con Marcos (Presidente) o con José A. Lorente (Vocal de Rutas).  \n  \n 
URL:https://www.agrupacioncotacero.es/evento/marcha-motera-vuartel-de-l-legion/
LOCATION:BP Montequinto\, Carretera Sevilla Utrera s/n\, Dos Hermanas\, Sevilla\, 41089\, España
CATEGORIES:Ruta por invitación
ATTACH;FMTTYPE=image/jpeg:https://www.agrupacioncotacero.es/wp-content/uploads/2019/08/4F28EA16-FF54-44AA-9B0A-8B36D296E37A.jpeg
END:VEVENT
END:VCALENDAR