BEGIN:VCALENDAR
VERSION:2.0
PRODID:-//Agrupación Motorista Cota Cero - ECPv5.14.0.4//NONSGML v1.0//EN
CALSCALE:GREGORIAN
METHOD:PUBLISH
X-WR-CALNAME:Agrupación Motorista Cota Cero
X-ORIGINAL-URL:https://www.agrupacioncotacero.es
X-WR-CALDESC:Eventos para Agrupación Motorista Cota Cero
BEGIN:VTIMEZONE
TZID:Europe/Paris
BEGIN:DAYLIGHT
TZOFFSETFROM:+0100
TZOFFSETTO:+0200
TZNAME:CEST
DTSTART:20210328T010000
END:DAYLIGHT
BEGIN:STANDARD
TZOFFSETFROM:+0200
TZOFFSETTO:+0100
TZNAME:CET
DTSTART:20211031T010000
END:STANDARD
END:VTIMEZONE
BEGIN:VEVENT
DTSTART;TZID=Europe/Paris:20210925T080000
DTEND;TZID=Europe/Paris:20210926T200000
DTSTAMP:20260419T181729
CREATED:20210603T115354Z
LAST-MODIFIED:20210603T115354Z
UID:16033-1632556800-1632686400@www.agrupacioncotacero.es
SUMMARY:II Grazalema Bike Challenger
DESCRIPTION:Grazalema Bike Challenge  es una prueba ciclista ciclodeportiva que tendrá lugar el 26 de septiembre de 2021 \, con salida a las 8h30 que nace con la idea de mostrar el magnífico entorno\, pueblos\, paisajes y carreteras de la Sierra de Grazalema a los amantes del Ciclismo y público en general. \nLa prueba tendrá salida y meta en la localidad de Grazalema\, haciendo un recorrido de 91km atravesando los términos del Parque Natural Sierra de Grazalema por las carreteras de la provincia de Cádiz: Grazalema\, El Gastor\, Zahara de la Sierra\, Villaluenga del Rosario\, Benaocaz\, Ubrique y El Bosque. \nNuestra agrupación apoya a la organización realizando tareas de seguridad vial.
URL:https://www.agrupacioncotacero.es/evento/ii-grazalema-bike-challenger/
LOCATION:Grazalema
CATEGORIES:Evento deportivo
ATTACH;FMTTYPE=image/jpeg:https://www.agrupacioncotacero.es/wp-content/uploads/2021/06/grazalema.jpg
END:VEVENT
END:VCALENDAR