BEGIN:VCALENDAR
VERSION:2.0
PRODID:-//Agrupación Motorista Cota Cero - ECPv5.14.0.4//NONSGML v1.0//EN
CALSCALE:GREGORIAN
METHOD:PUBLISH
X-WR-CALNAME:Agrupación Motorista Cota Cero
X-ORIGINAL-URL:https://www.agrupacioncotacero.es
X-WR-CALDESC:Eventos para Agrupación Motorista Cota Cero
BEGIN:VTIMEZONE
TZID:Europe/Paris
BEGIN:DAYLIGHT
TZOFFSETFROM:+0100
TZOFFSETTO:+0200
TZNAME:CEST
DTSTART:20200329T010000
END:DAYLIGHT
BEGIN:STANDARD
TZOFFSETFROM:+0200
TZOFFSETTO:+0100
TZNAME:CET
DTSTART:20201025T010000
END:STANDARD
END:VTIMEZONE
BEGIN:VEVENT
DTSTART;TZID=Europe/Paris:20200927T083000
DTEND;TZID=Europe/Paris:20200927T170000
DTSTAMP:20260420T190308
CREATED:20200121T202313Z
LAST-MODIFIED:20200121T202635Z
UID:15228-1601195400-1601226000@www.agrupacioncotacero.es
SUMMARY:II Grazalema Bike Challenge
DESCRIPTION:Grazalema Bike Challenge (GBC en adelante) es una prueba ciclista ciclodeportiva que tendrá lugar el 27 de septiembre de 2020 \, con salida a las 8h30. \nGBC nace con la idea de mostrar el magnífico entorno\, pueblos\, paisajes y carreteras de la Sierra de Grazalema a los amantes del Ciclismo y público en general. \nLa prueba tendrá salida y meta en la localidad de Grazalema\, haciendo un recorrido de 94km atravesando los términos del Parque Natural Sierra de Grazalema por las carreteras de la provincia de Cádiz: Grazalema\, El Gastor\, Zahara de la Sierra\, Villaluenga del Rosario\, Benaocaz\, Ubrique y El Bosque. Está abierta a todo ciclista de 18 años en adelante.
URL:https://www.agrupacioncotacero.es/evento/ii-grazalema-bike-challenge/
CATEGORIES:Evento deportivo
ATTACH;FMTTYPE=image/jpeg:https://www.agrupacioncotacero.es/wp-content/uploads/2020/01/grazalema-bike-challenge-8.jpg
END:VEVENT
END:VCALENDAR