BEGIN:VCALENDAR
VERSION:2.0
PRODID:-//Agrupación Motorista Cota Cero - ECPv5.14.0.4//NONSGML v1.0//EN
CALSCALE:GREGORIAN
METHOD:PUBLISH
X-WR-CALNAME:Agrupación Motorista Cota Cero
X-ORIGINAL-URL:https://www.agrupacioncotacero.es
X-WR-CALDESC:Eventos para Agrupación Motorista Cota Cero
BEGIN:VTIMEZONE
TZID:Europe/Paris
BEGIN:DAYLIGHT
TZOFFSETFROM:+0100
TZOFFSETTO:+0200
TZNAME:CEST
DTSTART:20190331T010000
END:DAYLIGHT
BEGIN:STANDARD
TZOFFSETFROM:+0200
TZOFFSETTO:+0100
TZNAME:CET
DTSTART:20191027T010000
END:STANDARD
END:VTIMEZONE
BEGIN:VEVENT
DTSTART;TZID=Europe/Paris:20190209T090000
DTEND;TZID=Europe/Paris:20190209T200000
DTSTAMP:20260422T054830
CREATED:20190103T094106Z
LAST-MODIFIED:20190213T180502Z
UID:23-1549702800-1549742400@www.agrupacioncotacero.es
SUMMARY:1ª Ruta Oficial 2019
DESCRIPTION:¡¡ Ruta Realizada y ya finalizada !!\nLa primera salida oficial del año 2019 consistirá en una ruta a la población de Chipiona incluyendo una visita visita al Faro de dicha ciudad. \nRuta\nDesde la BP de Montequinto\, nos dirigiremos a Utrera por la A-376 para luego tomar la carretera A-8030 hasta El Torbiscal y en el cruce con la N-IV nos desviaremos hacia Las Cabezas de San Juan por la A-471. \nEl desayuno está previsto hacerlo en Las Cabezas de San Juan en la Venta El Pan. \nTras el desayuno\, tomamos nuevamente la A-471 dirección Lebrija\, Trebujena y al llegar a la población de Sanlúcar de Barrameda\, tomamos la A-480 dirección Chipiona. \nNos dirigiremos directamente al Faro de Chipiona donde a las 11:45 tenemos concertada una visita al faro. El precio de la visita es de 5€ por persona. Las entradas hay que pagarlas y recogerlas en la Oficina de Turismo de Chipiona\, C/Castillo\, 5 y el pago hay que hacerlo con tarjeta. \nTras la visita nos haremos una foto de grupo en la escalinata del faro y nos dirigiremos a Sanlúcar donde tenemos concertado el almuerzo en Bar Montilla. \nEl regreso está previsto para las 16:30 y tomaremos el mismo camino que el de la ida. \nRealizaremos una arada técnica de despedida en la Venta de la Salina
URL:https://www.agrupacioncotacero.es/evento/1o-ruta-tecnica-2019/
LOCATION:BP Montequinto\, Carretera Sevilla Utrera s/n\, Dos Hermanas\, Sevilla\, 41089\, España
CATEGORIES:Ruta oficial
ATTACH;FMTTYPE=image/jpeg:https://www.agrupacioncotacero.es/wp-content/uploads/2019/01/faro-chipiona.jpg
END:VEVENT
END:VCALENDAR